BEGIN:VCALENDAR
VERSION:2.0
PRODID:icalendar-ruby
CALSCALE:GREGORIAN
METHOD:PUBLISH
BEGIN:VEVENT
DTSTAMP:20260422T011851Z
UID:8d48e027-0086-47c3-9f90-a270198a14a4
DTSTART;VALUE=DATE:20201210
DTEND;VALUE=DATE:20201210
DESCRIPTION:Blanchard Woods BMX
LOCATION:4600 Blanchard Woods Drive  Evans GA 30809 USA
SUMMARY:Practice
URL:/site/bmx_races/428569
END:VEVENT
END:VCALENDAR
