BEGIN:VCALENDAR
VERSION:2.0
PRODID:icalendar-ruby
CALSCALE:GREGORIAN
METHOD:PUBLISH
BEGIN:VEVENT
DTSTAMP:20260421T070933Z
UID:ff4acd45-495a-4b46-890f-17efa086a4ff
DTSTART;VALUE=DATE:20191220
DTEND;VALUE=DATE:20191220
DESCRIPTION:Peninsula Indoor BMX
LOCATION:5867 Dogwood Road Se  Port Orchard WA 98367 USA
SUMMARY:Practice
URL:/site/bmx_races/428848
END:VEVENT
END:VCALENDAR
