BEGIN:VCALENDAR
VERSION:2.0
PRODID:icalendar-ruby
CALSCALE:GREGORIAN
METHOD:PUBLISH
BEGIN:VEVENT
DTSTAMP:20260422T150156Z
UID:12f36b76-c541-4787-9e0c-e0f0b0bb3089
DTSTART;VALUE=DATE:20200104
DTEND;VALUE=DATE:20200104
DESCRIPTION:Spokane BMX
LOCATION:5701 N Assembly St  Spokane WA 99205 USA
SUMMARY:Practice
URL:/site/bmx_races/429432
END:VEVENT
END:VCALENDAR
