BEGIN:VCALENDAR
VERSION:2.0
PRODID:icalendar-ruby
CALSCALE:GREGORIAN
METHOD:PUBLISH
BEGIN:VEVENT
DTSTAMP:20260424T191429Z
UID:93143c13-db03-442e-9f95-982ca491675e
DTSTART;VALUE=DATE:20191207
DTEND;VALUE=DATE:20191207
DESCRIPTION:Rock Island Indoor BMX
LOCATION:2621 4th Ave  Rock Island IL 61201 USA
SUMMARY:Standard Single Single
URL:/site/bmx_races/431185
END:VEVENT
END:VCALENDAR
