BEGIN:VCALENDAR
VERSION:2.0
PRODID:icalendar-ruby
CALSCALE:GREGORIAN
METHOD:PUBLISH
BEGIN:VEVENT
DTSTAMP:20260423T234425Z
UID:f5d6fe5a-a9a5-4e3a-8df6-6e9cf1359ca6
DTSTART;VALUE=DATE:20200721
DTEND;VALUE=DATE:20200721
DESCRIPTION:Twin Silo BMX
LOCATION:5400 Ziegler Rd.   Ft Collins CO 80528 USA
SUMMARY:Clinic
URL:/site/bmx_races/431196
END:VEVENT
END:VCALENDAR
