BEGIN:VCALENDAR
VERSION:2.0
PRODID:icalendar-ruby
CALSCALE:GREGORIAN
METHOD:PUBLISH
BEGIN:VEVENT
DTSTAMP:20260421T051704Z
UID:6ae03465-43c1-4833-a2c0-7a6f99297ba0
DTSTART;VALUE=DATE:20200115
DTEND;VALUE=DATE:20200115
DESCRIPTION:Peninsula Indoor BMX
LOCATION:5867 Dogwood Road Se  Port Orchard WA 98367 USA
SUMMARY:Practice
URL:/site/bmx_races/431330
END:VEVENT
END:VCALENDAR
