BEGIN:VCALENDAR
VERSION:2.0
PRODID:icalendar-ruby
CALSCALE:GREGORIAN
METHOD:PUBLISH
BEGIN:VEVENT
DTSTAMP:20260424T220013Z
UID:899e8d37-4ae3-4f46-a760-6456877309d8
DTSTART;VALUE=DATE:20130423
DTEND;VALUE=DATE:20130423
DESCRIPTION:Elkhorn BMX
LOCATION:848 Elkhorn Blvd  Rio Linda CA 95673 USA
SUMMARY:Local Race Single
URL:/site/bmx_races/43179
END:VEVENT
END:VCALENDAR
