BEGIN:VCALENDAR
VERSION:2.0
PRODID:icalendar-ruby
CALSCALE:GREGORIAN
METHOD:PUBLISH
BEGIN:VEVENT
DTSTAMP:20260424T072133Z
UID:9e6af57b-5941-4d5a-b222-c7ba6a81e6a1
DTSTART;VALUE=DATE:20200826
DTEND;VALUE=DATE:20200826
DESCRIPTION:Derby City BMX
LOCATION:3000 Freys Hill Rd  Louisville KY 40241 USA
SUMMARY:Practice
URL:/site/bmx_races/431955
END:VEVENT
END:VCALENDAR
