BEGIN:VCALENDAR
VERSION:2.0
PRODID:icalendar-ruby
CALSCALE:GREGORIAN
METHOD:PUBLISH
BEGIN:VEVENT
DTSTAMP:20260424T174427Z
UID:e59a6c44-bedc-4a66-b482-d44a470d233e
DTSTART;VALUE=DATE:20130709
DTEND;VALUE=DATE:20130709
DESCRIPTION:Elkhorn BMX
LOCATION:848 Elkhorn Blvd  Rio Linda CA 95673 USA
SUMMARY:Local Race Single
URL:/site/bmx_races/43201
END:VEVENT
END:VCALENDAR
