BEGIN:VCALENDAR
VERSION:2.0
PRODID:icalendar-ruby
CALSCALE:GREGORIAN
METHOD:PUBLISH
BEGIN:VEVENT
DTSTAMP:20260424T174428Z
UID:f767e1a5-2a2c-4d63-9f61-0af981fee392
DTSTART;VALUE=DATE:20130324
DTEND;VALUE=DATE:20130324
DESCRIPTION:Sand Springs BMX
LOCATION:2600 S River City Park Rd  Sand Springs OK 74063 USA
SUMMARY:Local Race Single
URL:/site/bmx_races/43253
END:VEVENT
END:VCALENDAR
