BEGIN:VCALENDAR
VERSION:2.0
PRODID:icalendar-ruby
CALSCALE:GREGORIAN
METHOD:PUBLISH
BEGIN:VEVENT
DTSTAMP:20260421T222235Z
UID:6a706188-6c3d-4558-a6e8-676b0f3eacf3
DTSTART;VALUE=DATE:20200111
DTEND;VALUE=DATE:20200111
DESCRIPTION:Yucca Valley BMX
LOCATION:6989 Sage Ave  Yucca Valley CA 92234 USA
SUMMARY:Standard Single Single
URL:/site/bmx_races/432611
END:VEVENT
END:VCALENDAR
