BEGIN:VCALENDAR
VERSION:2.0
PRODID:icalendar-ruby
CALSCALE:GREGORIAN
METHOD:PUBLISH
BEGIN:VEVENT
DTSTAMP:20260421T141622Z
UID:75769683-b628-4588-9fab-2fd3d29adb63
DTSTART;VALUE=DATE:20200615
DTEND;VALUE=DATE:20200615
DESCRIPTION:Yucca Valley BMX
LOCATION:6989 Sage Ave  Yucca Valley CA 92234 USA
SUMMARY:Standard Single Single
URL:/site/bmx_races/432656
END:VEVENT
END:VCALENDAR
