BEGIN:VCALENDAR
VERSION:2.0
PRODID:icalendar-ruby
CALSCALE:GREGORIAN
METHOD:PUBLISH
BEGIN:VEVENT
DTSTAMP:20260421T123830Z
UID:5d72ebff-44c5-442a-8204-c62c889a48df
DTSTART;VALUE=DATE:20200701
DTEND;VALUE=DATE:20200701
DESCRIPTION:Yucca Valley BMX
LOCATION:6989 Sage Ave  Yucca Valley CA 92234 USA
SUMMARY:Standard Single Single
URL:/site/bmx_races/432661
END:VEVENT
END:VCALENDAR
