BEGIN:VCALENDAR
VERSION:2.0
PRODID:icalendar-ruby
CALSCALE:GREGORIAN
METHOD:PUBLISH
BEGIN:VEVENT
DTSTAMP:20260425T022839Z
UID:296ed379-aa4d-492e-b6b5-5d8dcd7c6914
DTSTART;VALUE=DATE:20200117
DTEND;VALUE=DATE:20200117
DESCRIPTION:Tucson BMX
LOCATION:9245 E Irvington  Tucson AZ 85730 USA
SUMMARY:Standard Single Single
URL:/site/bmx_races/432875
END:VEVENT
END:VCALENDAR
