BEGIN:VCALENDAR
VERSION:2.0
PRODID:icalendar-ruby
CALSCALE:GREGORIAN
METHOD:PUBLISH
BEGIN:VEVENT
DTSTAMP:20260425T022850Z
UID:1cdf82f6-e3a9-42f8-808e-2c572ef09011
DTSTART;VALUE=DATE:20200130
DTEND;VALUE=DATE:20200130
DESCRIPTION:Tucson BMX
LOCATION:9245 E Irvington  Tucson AZ 85730 USA
SUMMARY:Practice
URL:/site/bmx_races/432878
END:VEVENT
END:VCALENDAR
