BEGIN:VCALENDAR
VERSION:2.0
PRODID:icalendar-ruby
CALSCALE:GREGORIAN
METHOD:PUBLISH
BEGIN:VEVENT
DTSTAMP:20260424T232308Z
UID:1e368b14-95a6-4608-9f2a-0ffc393fa96b
DTSTART;VALUE=DATE:20200312
DTEND;VALUE=DATE:20200312
DESCRIPTION:Tucson BMX
LOCATION:9245 E Irvington  Tucson AZ 85730 USA
SUMMARY:Practice
URL:/site/bmx_races/432890
END:VEVENT
END:VCALENDAR
