BEGIN:VCALENDAR
VERSION:2.0
PRODID:icalendar-ruby
CALSCALE:GREGORIAN
METHOD:PUBLISH
BEGIN:VEVENT
DTSTAMP:20260424T232329Z
UID:9496b2b2-7ba0-4dac-b6f1-03b703df3628
DTSTART;VALUE=DATE:20200327
DTEND;VALUE=DATE:20200327
DESCRIPTION:Tucson BMX
LOCATION:9245 E Irvington  Tucson AZ 85730 USA
SUMMARY:Local Race Single
URL:/site/bmx_races/432895
END:VEVENT
END:VCALENDAR
