BEGIN:VCALENDAR
VERSION:2.0
PRODID:icalendar-ruby
CALSCALE:GREGORIAN
METHOD:PUBLISH
BEGIN:VEVENT
DTSTAMP:20260422T154904Z
UID:1c53428c-fb0e-444e-ac2c-d7ab45515f16
DTSTART;VALUE=DATE:20200201
DTEND;VALUE=DATE:20200201
DESCRIPTION:Freedom Park BMX Raceway
LOCATION:530 Convair St  Camarillo CA 93010 USA
SUMMARY:Standard Single Single
URL:/site/bmx_races/433073
END:VEVENT
END:VCALENDAR
