BEGIN:VCALENDAR
VERSION:2.0
PRODID:icalendar-ruby
CALSCALE:GREGORIAN
METHOD:PUBLISH
BEGIN:VEVENT
DTSTAMP:20260423T211552Z
UID:9c308095-9b1b-4cc1-8632-594e35ee010b
DTSTART;VALUE=DATE:20130317
DTEND;VALUE=DATE:20130317
DESCRIPTION:Nanaimo BMX
LOCATION:2001 Labieux Road  Nanaimo BC V9T 3K7 CAN
SUMMARY:Practice
URL:/site/bmx_races/43329
END:VEVENT
END:VCALENDAR
