BEGIN:VCALENDAR
VERSION:2.0
PRODID:icalendar-ruby
CALSCALE:GREGORIAN
METHOD:PUBLISH
BEGIN:VEVENT
DTSTAMP:20260423T181522Z
UID:4018b815-ea3b-4087-a4cf-e878283a5c70
DTSTART;VALUE=DATE:20130508
DTEND;VALUE=DATE:20130508
DESCRIPTION:Nanaimo BMX
LOCATION:2001 Labieux Road  Nanaimo BC V9T 3K7 CAN
SUMMARY:Local Race Single
URL:/site/bmx_races/43342
END:VEVENT
END:VCALENDAR
