BEGIN:VCALENDAR
VERSION:2.0
PRODID:icalendar-ruby
CALSCALE:GREGORIAN
METHOD:PUBLISH
BEGIN:VEVENT
DTSTAMP:20260423T181523Z
UID:be591a06-e329-4cc3-b3f8-80fd6ac5d05f
DTSTART;VALUE=DATE:20130526
DTEND;VALUE=DATE:20130526
DESCRIPTION:Nanaimo BMX
LOCATION:2001 Labieux Road  Nanaimo BC V9T 3K7 CAN
SUMMARY:Local Race Single
URL:/site/bmx_races/43345
END:VEVENT
END:VCALENDAR
