BEGIN:VCALENDAR
VERSION:2.0
PRODID:icalendar-ruby
CALSCALE:GREGORIAN
METHOD:PUBLISH
BEGIN:VEVENT
DTSTAMP:20260423T130035Z
UID:08b38631-3189-43c3-bf5e-1a552f3b1acd
DTSTART;VALUE=DATE:20200213
DTEND;VALUE=DATE:20200213
DESCRIPTION:Circle City BMX
LOCATION:Westgate Park    100 Recreation Rd Dothan AL 36305 USA
SUMMARY:Practice
URL:/site/bmx_races/433942
END:VEVENT
END:VCALENDAR
