BEGIN:VCALENDAR
VERSION:2.0
PRODID:icalendar-ruby
CALSCALE:GREGORIAN
METHOD:PUBLISH
BEGIN:VEVENT
DTSTAMP:20260422T234654Z
UID:c11d66e7-795a-4eca-b03a-bd12c80b14ca
DTSTART;VALUE=DATE:20201022
DTEND;VALUE=DATE:20201022
DESCRIPTION:Circle City BMX
LOCATION:Westgate Park    100 Recreation Rd Dothan AL 36305 USA
SUMMARY:Standard Single Single
URL:/site/bmx_races/434038
END:VEVENT
END:VCALENDAR
