BEGIN:VCALENDAR
VERSION:2.0
PRODID:icalendar-ruby
CALSCALE:GREGORIAN
METHOD:PUBLISH
BEGIN:VEVENT
DTSTAMP:20260423T143755Z
UID:ef95f68f-e6b5-4943-84e7-31aa4fedfdaf
DTSTART;VALUE=DATE:20200119
DTEND;VALUE=DATE:20200119
DESCRIPTION:Circle City BMX
LOCATION:Westgate Park    100 Recreation Rd Dothan AL 36305 USA
SUMMARY:Standard Single Single
URL:/site/bmx_races/434123
END:VEVENT
END:VCALENDAR
