BEGIN:VCALENDAR
VERSION:2.0
PRODID:icalendar-ruby
CALSCALE:GREGORIAN
METHOD:PUBLISH
BEGIN:VEVENT
DTSTAMP:20260423T111815Z
UID:3fed5cbb-b02d-442f-9706-ec1ebd96f0c7
DTSTART;VALUE=DATE:20200308
DTEND;VALUE=DATE:20200308
DESCRIPTION:Circle City BMX
LOCATION:Westgate Park    100 Recreation Rd Dothan AL 36305 USA
SUMMARY:Standard Single Single
URL:/site/bmx_races/434130
END:VEVENT
END:VCALENDAR
