BEGIN:VCALENDAR
VERSION:2.0
PRODID:icalendar-ruby
CALSCALE:GREGORIAN
METHOD:PUBLISH
BEGIN:VEVENT
DTSTAMP:20260422T234653Z
UID:0263456b-64eb-4bf7-bdc3-a894e5bd81a8
DTSTART;VALUE=DATE:20201018
DTEND;VALUE=DATE:20201018
DESCRIPTION:Circle City BMX
LOCATION:Westgate Park    100 Recreation Rd Dothan AL 36305 USA
SUMMARY:Standard Single Single
URL:/site/bmx_races/434161
END:VEVENT
END:VCALENDAR
