BEGIN:VCALENDAR
VERSION:2.0
PRODID:icalendar-ruby
CALSCALE:GREGORIAN
METHOD:PUBLISH
BEGIN:VEVENT
DTSTAMP:20260422T201702Z
UID:84d49a33-2561-4cba-9021-5e1d52b1923c
DTSTART;VALUE=DATE:20201206
DTEND;VALUE=DATE:20201206
DESCRIPTION:Circle City BMX
LOCATION:Westgate Park    100 Recreation Rd Dothan AL 36305 USA
SUMMARY:Local Race Single
URL:/site/bmx_races/434168
END:VEVENT
END:VCALENDAR
