BEGIN:VCALENDAR
VERSION:2.0
PRODID:icalendar-ruby
CALSCALE:GREGORIAN
METHOD:PUBLISH
BEGIN:VEVENT
DTSTAMP:20260424T102908Z
UID:d0a08962-efe6-450b-9664-1ea007e0cbe9
DTSTART;VALUE=DATE:20201015
DTEND;VALUE=DATE:20201015
DESCRIPTION:Snake River BMX
LOCATION:1860 East 65th South  Idaho Falls ID 83404 USA
SUMMARY:Standard Single Single
URL:/site/bmx_races/434797
END:VEVENT
END:VCALENDAR
