BEGIN:VCALENDAR
VERSION:2.0
PRODID:icalendar-ruby
CALSCALE:GREGORIAN
METHOD:PUBLISH
BEGIN:VEVENT
DTSTAMP:20260425T205917Z
UID:3fc1e90d-e748-414a-80bb-64b14bbd5882
DTSTART;VALUE=DATE:20201016
DTEND;VALUE=DATE:20201016
DESCRIPTION:St. Cloud BMX
LOCATION:2401 Peghorn Way  St. Cloud FL 34769 USA
SUMMARY:Standard Single Single
URL:/site/bmx_races/434848
END:VEVENT
END:VCALENDAR
