BEGIN:VCALENDAR
VERSION:2.0
PRODID:icalendar-ruby
CALSCALE:GREGORIAN
METHOD:PUBLISH
BEGIN:VEVENT
DTSTAMP:20260424T044302Z
UID:fb5cf4c4-c4f0-4cd3-9e59-4b56c65a46b2
DTSTART;VALUE=DATE:20200919
DTEND;VALUE=DATE:20200919
DESCRIPTION:Derby City BMX
LOCATION:3000 Freys Hill Rd  Louisville KY 40241 USA
SUMMARY:State Pre-Race Double
URL:/site/bmx_races/434873
END:VEVENT
END:VCALENDAR
