BEGIN:VCALENDAR
VERSION:2.0
PRODID:icalendar-ruby
CALSCALE:GREGORIAN
METHOD:PUBLISH
BEGIN:VEVENT
DTSTAMP:20260424T191430Z
UID:a643e53b-4a73-46b8-8b04-584289a00e96
DTSTART;VALUE=DATE:20191215
DTEND;VALUE=DATE:20191215
DESCRIPTION:Rock Island Indoor BMX
LOCATION:2621 4th Ave  Rock Island IL 61201 USA
SUMMARY:Standard Single Single
URL:/site/bmx_races/435145
END:VEVENT
END:VCALENDAR
