BEGIN:VCALENDAR
VERSION:2.0
PRODID:icalendar-ruby
CALSCALE:GREGORIAN
METHOD:PUBLISH
BEGIN:VEVENT
DTSTAMP:20260422T040723Z
UID:859a8c0e-87c4-48e3-93d4-7a2bda8f01a8
DTSTART;VALUE=DATE:20201030
DTEND;VALUE=DATE:20201030
DESCRIPTION:Blanchard Woods BMX
LOCATION:4600 Blanchard Woods Drive  Evans GA 30809 USA
SUMMARY:Practice
URL:/site/bmx_races/435316
END:VEVENT
END:VCALENDAR
