BEGIN:VCALENDAR
VERSION:2.0
PRODID:icalendar-ruby
CALSCALE:GREGORIAN
METHOD:PUBLISH
BEGIN:VEVENT
DTSTAMP:20260422T154925Z
UID:7d23e375-39a5-4ad6-bbe2-18f85f6cfae0
DTSTART;VALUE=DATE:20200301
DTEND;VALUE=DATE:20200301
DESCRIPTION:Hornet`s Nest BMX
LOCATION:6301 Beatties Ford Rd  Charlotte NC 28216 USA
SUMMARY:Clinic
URL:/site/bmx_races/435381
END:VEVENT
END:VCALENDAR
