BEGIN:VCALENDAR
VERSION:2.0
PRODID:icalendar-ruby
CALSCALE:GREGORIAN
METHOD:PUBLISH
BEGIN:VEVENT
DTSTAMP:20260422T172844Z
UID:b651567b-5154-4966-bd04-e8627544a101
DTSTART;VALUE=DATE:20200305
DTEND;VALUE=DATE:20200305
DESCRIPTION:Hornet`s Nest BMX
LOCATION:6301 Beatties Ford Rd  Charlotte NC 28216 USA
SUMMARY:Local Race Single
URL:/site/bmx_races/435383
END:VEVENT
END:VCALENDAR
