BEGIN:VCALENDAR
VERSION:2.0
PRODID:icalendar-ruby
CALSCALE:GREGORIAN
METHOD:PUBLISH
BEGIN:VEVENT
DTSTAMP:20260422T090221Z
UID:4223f44c-1886-45f4-9784-1b0de83adc85
DTSTART;VALUE=DATE:20200818
DTEND;VALUE=DATE:20200818
DESCRIPTION:Hornet`s Nest BMX
LOCATION:6301 Beatties Ford Rd  Charlotte NC 28216 USA
SUMMARY:Practice
URL:/site/bmx_races/435477
END:VEVENT
END:VCALENDAR
