BEGIN:VCALENDAR
VERSION:2.0
PRODID:icalendar-ruby
CALSCALE:GREGORIAN
METHOD:PUBLISH
BEGIN:VEVENT
DTSTAMP:20260422T055520Z
UID:53f4b4d1-93e6-4b34-bafa-65e96e666310
DTSTART;VALUE=DATE:20201017
DTEND;VALUE=DATE:20201017
DESCRIPTION:Hornet`s Nest BMX
LOCATION:6301 Beatties Ford Rd  Charlotte NC 28216 USA
SUMMARY:Local Race Single
URL:/site/bmx_races/435511
END:VEVENT
END:VCALENDAR
