BEGIN:VCALENDAR
VERSION:2.0
PRODID:icalendar-ruby
CALSCALE:GREGORIAN
METHOD:PUBLISH
BEGIN:VEVENT
DTSTAMP:20260424T022456Z
UID:4650ed9e-0d16-4089-9752-4db9e647b715
DTSTART;VALUE=DATE:20201008
DTEND;VALUE=DATE:20201008
DESCRIPTION:Red Hills BMX
LOCATION:1361 N Main  Richfield  UT 84701 USA
SUMMARY:Standard Single Single
URL:/site/bmx_races/435555
END:VEVENT
END:VCALENDAR
