BEGIN:VCALENDAR
VERSION:2.0
PRODID:icalendar-ruby
CALSCALE:GREGORIAN
METHOD:PUBLISH
BEGIN:VEVENT
DTSTAMP:20260425T010944Z
UID:1b5f6535-a21e-4003-bd47-d27fd0f4c455
DTSTART;VALUE=DATE:20200813
DTEND;VALUE=DATE:20200813
DESCRIPTION:Spokes BMX
LOCATION: 2550 W Bennett  Springfield MO 65807 USA
SUMMARY:Standard Single Single
URL:/site/bmx_races/435815
END:VEVENT
END:VCALENDAR
