BEGIN:VCALENDAR
VERSION:2.0
PRODID:icalendar-ruby
CALSCALE:GREGORIAN
METHOD:PUBLISH
BEGIN:VEVENT
DTSTAMP:20260423T072509Z
UID:47fa26ea-fb9f-4f2f-922d-28fdefd1720c
DTSTART;VALUE=DATE:20130729
DTEND;VALUE=DATE:20130729
DESCRIPTION:Fastrax BMX
LOCATION:2800 S 12th St  Bismarck ND 58504 USA
SUMMARY:Local Race Single
URL:/site/bmx_races/43582
END:VEVENT
END:VCALENDAR
