BEGIN:VCALENDAR
VERSION:2.0
PRODID:icalendar-ruby
CALSCALE:GREGORIAN
METHOD:PUBLISH
BEGIN:VEVENT
DTSTAMP:20260424T202907Z
UID:84007a03-06f4-4ee9-8356-bbbce57ec470
DTSTART;VALUE=DATE:20201119
DTEND;VALUE=DATE:20201119
DESCRIPTION:Spokes BMX
LOCATION: 2550 W Bennett  Springfield MO 65807 USA
SUMMARY:Local Race Single
URL:/site/bmx_races/435829
END:VEVENT
END:VCALENDAR
