BEGIN:VCALENDAR
VERSION:2.0
PRODID:icalendar-ruby
CALSCALE:GREGORIAN
METHOD:PUBLISH
BEGIN:VEVENT
DTSTAMP:20260424T073938Z
UID:0bfb8790-76d5-4827-80b4-3df8817b333b
DTSTART;VALUE=DATE:20200627
DTEND;VALUE=DATE:20200627
DESCRIPTION:Desert Downs BMX
LOCATION:8801 Railroad  El Paso TX 79924 USA
SUMMARY:Standard Double Double
URL:/site/bmx_races/436709
END:VEVENT
END:VCALENDAR
