BEGIN:VCALENDAR
VERSION:2.0
PRODID:icalendar-ruby
CALSCALE:GREGORIAN
METHOD:PUBLISH
BEGIN:VEVENT
DTSTAMP:20260424T084355Z
UID:3b6381ef-e3ca-46ae-a1db-5f443e983adf
DTSTART;VALUE=DATE:20200728
DTEND;VALUE=DATE:20200728
DESCRIPTION:Mike Sedar BMX
LOCATION:789 College Dr  Casper WY 82601 USA
SUMMARY:Standard Single Single
URL:/site/bmx_races/437931
END:VEVENT
END:VCALENDAR
