BEGIN:VCALENDAR
VERSION:2.0
PRODID:icalendar-ruby
CALSCALE:GREGORIAN
METHOD:PUBLISH
BEGIN:VEVENT
DTSTAMP:20260424T040623Z
UID:8c01c4c8-13cf-4042-b529-7fbeb34cb84a
DTSTART;VALUE=DATE:20201003
DTEND;VALUE=DATE:20201003
DESCRIPTION:Mike Sedar BMX
LOCATION:789 College Dr  Casper WY 82601 USA
SUMMARY:Standard Single Single
URL:/site/bmx_races/437957
END:VEVENT
END:VCALENDAR
