BEGIN:VCALENDAR
VERSION:2.0
PRODID:icalendar-ruby
CALSCALE:GREGORIAN
METHOD:PUBLISH
BEGIN:VEVENT
DTSTAMP:20260424T040624Z
UID:8145c849-66bf-4199-b24c-632544155b22
DTSTART;VALUE=DATE:20201024
DTEND;VALUE=DATE:20201024
DESCRIPTION:Mike Sedar BMX
LOCATION:789 College Dr  Casper WY 82601 USA
SUMMARY:Local Race Single
URL:/site/bmx_races/437960
END:VEVENT
END:VCALENDAR
