BEGIN:VCALENDAR
VERSION:2.0
PRODID:icalendar-ruby
CALSCALE:GREGORIAN
METHOD:PUBLISH
BEGIN:VEVENT
DTSTAMP:20260425T105728Z
UID:31dcd0e0-43fa-4910-826f-efc32c20de43
DTSTART;VALUE=DATE:20200122
DTEND;VALUE=DATE:20200122
DESCRIPTION:Yuma BMX
LOCATION:3067 S Pacific Ave  Yuma AZ 85364 USA
SUMMARY:Standard Single Single
URL:/site/bmx_races/438418
END:VEVENT
END:VCALENDAR
