BEGIN:VCALENDAR
VERSION:2.0
PRODID:icalendar-ruby
CALSCALE:GREGORIAN
METHOD:PUBLISH
BEGIN:VEVENT
DTSTAMP:20260423T043156Z
UID:38ed59f3-9b08-4544-8ab0-2c8b315485ca
DTSTART;VALUE=DATE:20201031
DTEND;VALUE=DATE:20201031
DESCRIPTION:Dacono BMX
LOCATION:113 Forest Ave  Dacono CO 80514 USA
SUMMARY:Standard Single Single
URL:/site/bmx_races/438841
END:VEVENT
END:VCALENDAR
