BEGIN:VCALENDAR
VERSION:2.0
PRODID:icalendar-ruby
CALSCALE:GREGORIAN
METHOD:PUBLISH
BEGIN:VEVENT
DTSTAMP:20260423T031116Z
UID:382d5a65-8395-4320-83cc-46024815e60a
DTSTART;VALUE=DATE:20201107
DTEND;VALUE=DATE:20201107
DESCRIPTION:Twin Silo BMX
LOCATION:5400 Ziegler Rd.   Ft Collins CO 80528 USA
SUMMARY:Earned Double
URL:/site/bmx_races/439388
END:VEVENT
END:VCALENDAR
