BEGIN:VCALENDAR
VERSION:2.0
PRODID:icalendar-ruby
CALSCALE:GREGORIAN
METHOD:PUBLISH
BEGIN:VEVENT
DTSTAMP:20260420T145938Z
UID:ff8b2fdb-26e4-4422-9698-e84a7f0d7499
DTSTART;VALUE=DATE:20200925
DTEND;VALUE=DATE:20200925
DESCRIPTION:Rad Canyon BMX
LOCATION:5200 W 9800 S  West Jordan UT 84081 USA
SUMMARY:Earned Double
URL:/site/bmx_races/439543
END:VEVENT
END:VCALENDAR
