BEGIN:VCALENDAR
VERSION:2.0
PRODID:icalendar-ruby
CALSCALE:GREGORIAN
METHOD:PUBLISH
BEGIN:VEVENT
DTSTAMP:20260422T000218Z
UID:95e9738d-5cd5-4796-b878-7a874c3b1ac1
DTSTART;VALUE=DATE:20200904
DTEND;VALUE=DATE:20200904
DESCRIPTION:Imagination Glen BMX
LOCATION:2190 N State Rd 149  Portage IN 46304 USA
SUMMARY:Practice
URL:/site/bmx_races/440621
END:VEVENT
END:VCALENDAR
