BEGIN:VCALENDAR
VERSION:2.0
PRODID:icalendar-ruby
CALSCALE:GREGORIAN
METHOD:PUBLISH
BEGIN:VEVENT
DTSTAMP:20260422T042622Z
UID:ea332eba-26ab-40ee-bcf5-0b6eda211b50
DTSTART;VALUE=DATE:20200609
DTEND;VALUE=DATE:20200609
DESCRIPTION:Imagination Glen BMX
LOCATION:2190 N State Rd 149  Portage IN 46304 USA
SUMMARY:Practice
URL:/site/bmx_races/440654
END:VEVENT
END:VCALENDAR
